dset heat_salt_flux_latlon_mapping.data
undef 9.9E+33
title yearly accumulate heat and salt flux and ice production data
xdef 900 linear 0.0 0.4
ydef 150 linear -79.8 0.2
zdef 1 linear 1 1
tdef 1 linear 00z01Jan1992 1yr
vars 9
hb1 1 99 Data Points heat flux [W/m**2] -ERA-40- (1992-2001)
ipt1 1 99 Data Points ice production -thickness- [m/year] -ERA-40- (1992-2001)
sa1 1 99 Data Points salt flux [Kg/m**2] -ERA-40- (1992-2001)
hb2 1 99 Data Points heat flux [W/m**2] -ERA-interim- (1992-2007)
ipt2 1 99 Data Points ice production -thickness- [m/year] -ERA-interim- (1992-2007)
sa2 1 99 Data Points salt flux [Kg/m**2] -ERA-interim- (1992-2007)
hb3 1 99 Data Points heat flux [W/m**2] -NCEP2- (1992-2007)
ipt3 1 99 Data Points ice production -thickness- [m/year] -NCEP2- (1992-2007)
sa3 1 99 Data Points salt flux [Kg/m**2] -NCEP2- (1992-2007)
endvars
